BEGIN:VCALENDAR
VERSION:2.0
PRODID:-//wp-events-plugin.com//7.2.3.1//EN
TZID:America/Chicago
X-WR-TIMEZONE:America/Chicago
BEGIN:VEVENT
UID:223@1dwilegion.org
DTSTART;TZID=America/Chicago:20260502T090000
DTEND;TZID=America/Chicago:20260502T113000
DTSTAMP:20260420T022034Z
URL:https://1dwilegion.org/events/1st-district-riders-meeting-post-91/
SUMMARY:1st District Riders Meeting Post 91
DESCRIPTION:Riders Meeting 9am
CATEGORIES:1D Riders
LOCATION:Post 91 Oconomowoc\, 130 Wisconsin Ave\, Oconomowoc\, Wi\, 53066\,
  United States
X-APPLE-STRUCTURED-LOCATION;VALUE=URI;X-ADDRESS=130 Wisconsin Ave\, Oconomo
 woc\, Wi\, 53066\, United States;X-APPLE-RADIUS=100;X-TITLE=Post 91 Oconom
 owoc:geo:0,0
END:VEVENT
BEGIN:VTIMEZONE
TZID:America/Chicago
X-LIC-LOCATION:America/Chicago
BEGIN:DAYLIGHT
DTSTART:20260308T030000
TZOFFSETFROM:-0600
TZOFFSETTO:-0500
TZNAME:CDT
END:DAYLIGHT
END:VTIMEZONE
END:VCALENDAR