BEGIN:VCALENDAR
VERSION:2.0
PRODID:-//wp-events-plugin.com//7.2.3.1//EN
TZID:America/Chicago
X-WR-TIMEZONE:America/Chicago
BEGIN:VEVENT
UID:144@1dwilegion.org
DTSTART;TZID=America/Chicago:20240505T090000
DTEND;TZID=America/Chicago:20240505T130000
DTSTAMP:20231222T180343Z
URL:https://1dwilegion.org/events/1st-district-spring-conference-post-24-l
 ake-geneva-0900/
SUMMARY:1st District Spring Conference – Post 24 Lake Geneva\, 0900
DESCRIPTION:POST 24 – LAKE GENEVA\nCommander: Troy Hibbard\, 262-949-0343
 \nAdjutant: Bob Miller\, 262-279-6429
CATEGORIES:District Events
END:VEVENT
BEGIN:VTIMEZONE
TZID:America/Chicago
X-LIC-LOCATION:America/Chicago
BEGIN:DAYLIGHT
DTSTART:20240310T030000
TZOFFSETFROM:-0600
TZOFFSETTO:-0500
TZNAME:CDT
END:DAYLIGHT
END:VTIMEZONE
END:VCALENDAR